BEGIN:VCALENDAR
VERSION:2.0
PRODID:-//FifeFHS (SCIO) - ECPv6.15.20//NONSGML v1.0//EN
CALSCALE:GREGORIAN
METHOD:PUBLISH
X-ORIGINAL-URL:https://fifefhs.org
X-WR-CALDESC:Events for FifeFHS (SCIO)
REFRESH-INTERVAL;VALUE=DURATION:PT1H
X-Robots-Tag:noindex
X-PUBLISHED-TTL:PT1H
BEGIN:VTIMEZONE
TZID:UTC
BEGIN:STANDARD
TZOFFSETFROM:+0000
TZOFFSETTO:+0000
TZNAME:UTC
DTSTART:20170101T000000
END:STANDARD
END:VTIMEZONE
BEGIN:VTIMEZONE
TZID:Europe/Dublin
BEGIN:STANDARD
TZOFFSETFROM:+0000
TZOFFSETTO:+0100
TZNAME:IST
DTSTART:20180325T010000
END:STANDARD
BEGIN:DAYLIGHT
TZOFFSETFROM:+0100
TZOFFSETTO:+0000
TZNAME:GMT
DTSTART:20181028T010000
END:DAYLIGHT
BEGIN:STANDARD
TZOFFSETFROM:+0000
TZOFFSETTO:+0100
TZNAME:IST
DTSTART:20190331T010000
END:STANDARD
BEGIN:DAYLIGHT
TZOFFSETFROM:+0100
TZOFFSETTO:+0000
TZNAME:GMT
DTSTART:20191027T010000
END:DAYLIGHT
BEGIN:STANDARD
TZOFFSETFROM:+0000
TZOFFSETTO:+0100
TZNAME:IST
DTSTART:20200329T010000
END:STANDARD
BEGIN:DAYLIGHT
TZOFFSETFROM:+0100
TZOFFSETTO:+0000
TZNAME:GMT
DTSTART:20201025T010000
END:DAYLIGHT
END:VTIMEZONE
BEGIN:VEVENT
DTSTART;TZID=UTC:20190312T193000
DTEND;TZID=UTC:20190312T213000
DTSTAMP:20260421T034504
CREATED:20180805T172638Z
LAST-MODIFIED:20190308T103314Z
UID:3060-1552419000-1552426200@fifefhs.org
SUMMARY:Getting to Grips with Scottish Handwriting
DESCRIPTION:Rachel Hart – “Scots Palaeography” \n‘Getting to grips with Scottish handwriting’. This interactive talk will give an introduction to the challenges of reading old handwriting and will be illustrated with examples of documents from the local area. It will provide practical tips and techniques on how to tackle difficult manuscripts and will try to de-mystify some of the technicalities of documents written in Scots. Advice will be given on where to find extra help and there will be chance to have a go for yourself. \nRachel is Senior Archivist at the University of St Andrews where she has taught Medieval and Early Modern Palaeography to Masters students for many years. She is the tutor on the Scots Palaeography module offered through the Centre for Archive and Information Studies at the University of Dundee. \nMembers FREE\, non-members welcome (£2). Please email secretary@fifefhs.org for further details.
URL:https://fifefhs.org/event/scots-paleography/
LOCATION:Volunteer House\, 69 Crossgate\, Cupar\, Fife\, KY15 5AS\, United Kingdom
CATEGORIES:Talks
ORGANIZER;CN="FifeFHS":MAILTO:chairman@fifefhs.org
END:VEVENT
BEGIN:VEVENT
DTSTART;TZID=UTC:20190212T193000
DTEND;TZID=UTC:20190212T213000
DTSTAMP:20260421T034504
CREATED:20180805T172529Z
LAST-MODIFIED:20190128T113614Z
UID:3058-1549999800-1550007000@fifefhs.org
SUMMARY:Scottish Mining Museum
DESCRIPTION:Brian Murray – “Scottish Mining Museum” \nBrian will talk about how coal was formed\, where it was located in Scotland and how it was mined. He will discuss the various aspects in social history and the conditions that the workforce endured. Brian will enlighten us with the work of the Scottish Mining Museum.
URL:https://fifefhs.org/event/scottish-mining-museum/
LOCATION:Volunteer House\, 69 Crossgate\, Cupar\, Fife\, KY15 5AS\, United Kingdom
CATEGORIES:Talks
ORGANIZER;CN="FifeFHS":MAILTO:chairman@fifefhs.org
END:VEVENT
BEGIN:VEVENT
DTSTART;TZID=Europe/Dublin:20190125T140000
DTEND;TZID=Europe/Dublin:20190125T140000
DTSTAMP:20260421T034504
CREATED:20190111T164338Z
LAST-MODIFIED:20190111T164338Z
UID:3282-1548424800-1548424800@fifefhs.org
SUMMARY:"Hidden Burgh: restoring Cupar's place at the heart of Fife" HELP NEEDED
DESCRIPTION:The University of St Andrews are involved in the Archives Revealed project “Hidden Burgh: restoring Cupar’s place at the heart of Fife”.  It is being financed largely by the Archives Revealed funding programme from The National Archives and the Pilgrim Trust\, and will last for one year. The University holds the records for the Cupar Burgh from 1364 to 1975 and the objective is to have them fully catalogued so that they are accessible to everyone.  Part of the project involves engagement with the Cupar community\, giving the local people the opportunity to be part of the project.  With that in mind\, the University is looking for volunteers who are interested in being involved in some indexing/transcription projects.  It is anticipated that the volunteers will work in a group setting at the Cupar Library using copies of the original records. \n  \nIf you are interested in being part of this exciting venture\, please come along to a meeting at the Cupar Library (Room 14) on Friday 25th January at 2 pm.  The Cupar project archivist\, Christine Wood\, will explain what types of projects are available and what is involved.  Anyone who would like to learn more and is keen to take part will be warmly welcomed.  If you are not able to attend the meeting on the day but wish to be considered for the volunteering projects\, please contact Christine Wood at caw23@st-andrews.ac.uk or telephone 01334 461727/462339. \n 
URL:https://fifefhs.org/event/hidden-burgh-restoring-cupars-place-at-the-heart-of-fife-help-needed/
LOCATION:Cupar Library\, 33 Crossgate\, Cupar\, United Kingdom (UK)\, KY15 4AS\, United Kingdom
END:VEVENT
BEGIN:VEVENT
DTSTART;TZID=UTC:20190122T100000
DTEND;TZID=UTC:20190122T150000
DTSTAMP:20260421T034504
CREATED:20180628T165240Z
LAST-MODIFIED:20190111T162858Z
UID:3005-1548151200-1548169200@fifefhs.org
SUMMARY:Ancestry Discovery Day
DESCRIPTION:An open day in conjunction with Cupar Library \nWant to find out more about Ancestry and your Fife family history?\nDrop in and learn more about how Ancestry can help you start out with your family history. For those who have already started out\, put ‘meat on the bones’ and be introduced to online resources. We are hosting this informal event with Fife Archives and Cupar Library. Cupar Heritage and Museum and Fife Folk Museum will also be displaying local history and heritage material. We are please to have St Andrews University Special Collections who will be bringing some of Cupar’s Burgh Records dating from 1300’s along. Admission free\, no need to book. If you would like further information please contact secretary@fifefhs.org
URL:https://fifefhs.org/event/ancestry-open-day/
LOCATION:Cupar Library\, 33 Crossgate\, Cupar\, United Kingdom (UK)\, KY15 4AS\, United Kingdom
CATEGORIES:Open Days,Talks
ORGANIZER;CN="FifeFHS":MAILTO:chairman@fifefhs.org
END:VEVENT
BEGIN:VEVENT
DTSTART;TZID=UTC:20181211T193000
DTEND;TZID=UTC:20181211T210000
DTSTAMP:20260421T034504
CREATED:20180805T140544Z
LAST-MODIFIED:20181128T112858Z
UID:3056-1544556600-1544562000@fifefhs.org
SUMMARY:Festive Get Together with 'Cupalele'
DESCRIPTION:Members are invited to join us for a Festive Get Together with local Cupar ukulele band ‘Cupalele’. As well as some toe tapping music there will be drinks and nibbles and an opportunity to get together. Festive jumpers/attire to be encouraged! Meet at the usual venue\, Volunteer House\, 69-73 Crossgate\, Cupar for 7.30-9pm
URL:https://fifefhs.org/event/christmas-night/
LOCATION:Volunteer House\, 69 Crossgate\, Cupar\, Fife\, KY15 5AS\, United Kingdom
CATEGORIES:Talks
ORGANIZER;CN="FifeFHS":MAILTO:chairman@fifefhs.org
END:VEVENT
BEGIN:VEVENT
DTSTART;TZID=UTC:20181113T193000
DTEND;TZID=UTC:20181113T213000
DTSTAMP:20260421T034504
CREATED:20180805T140027Z
LAST-MODIFIED:20180805T140027Z
UID:3054-1542137400-1542144600@fifefhs.org
SUMMARY:The Balfour Family of Fife
DESCRIPTION:Robert Balfour – “The Balfour Family of Fife”
URL:https://fifefhs.org/event/the-balfour-family-of-fife/
LOCATION:Volunteer House\, 69 Crossgate\, Cupar\, Fife\, KY15 5AS\, United Kingdom
CATEGORIES:Talks
ORGANIZER;CN="FifeFHS":MAILTO:chairman@fifefhs.org
END:VEVENT
BEGIN:VEVENT
DTSTART;TZID=UTC:20181009T193000
DTEND;TZID=UTC:20181009T213000
DTSTAMP:20260421T034504
CREATED:20180805T135650Z
LAST-MODIFIED:20180805T140102Z
UID:3051-1539113400-1539120600@fifefhs.org
SUMMARY:Irish Records
DESCRIPTION:Jill Williams – “Irish records? – They all went up in smoke . . . or did they?”
URL:https://fifefhs.org/event/irish-records/
LOCATION:Volunteer House\, 69 Crossgate\, Cupar\, Fife\, KY15 5AS\, United Kingdom
CATEGORIES:Talks
ORGANIZER;CN="FifeFHS":MAILTO:chairman@fifefhs.org
END:VEVENT
BEGIN:VEVENT
DTSTART;TZID=UTC:20180911T193000
DTEND;TZID=UTC:20180911T213000
DTSTAMP:20260421T034504
CREATED:20180805T135226Z
LAST-MODIFIED:20180805T140123Z
UID:3048-1536694200-1536701400@fifefhs.org
SUMMARY:Banishment and Transportation
DESCRIPTION:Ken Nisbet on “Banishment and Transportation” along with an exhibition/photos of some of the stories from the Kalendar of Convicts by Andrew Campbell. \n\n\nKen Nisbet\n\n\n\n\n\nKen Nisbet has been involved in family and military history research for over 40 years. Originally from Aberdeen\, he started doing his family history whilst still at School and first joined a family history society in 1978. \nHe is a regular speaker to Scotland’s family history societies and is Secretary of both the Scottish Genealogy Society and SAFHS. He compiled the Nairnshire Roll for the 1st World War and has a written a history of the 2nd Battalion 78th Foot. \nLike many Scots he discovered that some of his relatives migrated to Australia\, and about six years ago discovered that three brothers of one of his 3x-Great-Grandmothers had not been willing migrants but all three had been transported. \n\n\nAndrew Campbell\n\n\n\n\n\nThe Fife Kalendar of Convicts has been compiled by a Andrew Campbell\, a noted local genealogist\, who has been editor of The Fife Family History Society Journal for over 25 years\, and who has indexed many of its records over the years\, including Fife Shopkeepers and Traders (1820-1870). \nHe also helped to co-ordinate the pre-1855 Fife Death Index CD\, published by the Society\, which has over a quarter of a million entries.
URL:https://fifefhs.org/event/banishment-and-transportation/
LOCATION:Volunteer House\, 69 Crossgate\, Cupar\, Fife\, KY15 5AS\, United Kingdom
CATEGORIES:Talks
ORGANIZER;CN="FifeFHS":MAILTO:chairman@fifefhs.org
END:VEVENT
BEGIN:VEVENT
DTSTART;TZID=UTC:20180612T193000
DTEND;TZID=UTC:20180612T213000
DTSTAMP:20260421T034504
CREATED:20171224T140648Z
LAST-MODIFIED:20180505T114734Z
UID:1327-1528831800-1528839000@fifefhs.org
SUMMARY:AGM - 12 June 2018 at 7.30pm
DESCRIPTION:We hope you will come along to our AGM on the 12 May at 7.30 at our usual venue. The Society depends on the support of its members. We are a small Committee but are always looking for others to volunteer in some way so that the Society can continue to flourish! After the “business” of the evening it is proposed just to have time to “chat”\, with refreshments. We will have some of our publications and books for sale and of course the new Kalander of Convicts which has been produced by our Journal Editor Andrew Campbell.
URL:https://fifefhs.org/event/agm/
LOCATION:Volunteer House\, 69 Crossgate\, Cupar\, Fife\, KY15 5AS\, United Kingdom
CATEGORIES:AGM
ORGANIZER;CN="FifeFHS":MAILTO:chairman@fifefhs.org
END:VEVENT
BEGIN:VEVENT
DTSTART;VALUE=DATE:20180508
DTEND;VALUE=DATE:20180509
DTSTAMP:20260421T034504
CREATED:20171224T140506Z
LAST-MODIFIED:20180502T125439Z
UID:1325-1525737600-1525823999@fifefhs.org
SUMMARY:Outing - This has been cancelled.
DESCRIPTION:Cancelled through lack of interest.\nThis year’s outing will be to Historic Environment Scotland premises in Edinburgh on the 8th of May. If you are interested in coming on this visit can you please email our Secretary and let her know. If there is enough interest we may put on a minibus as we did when we went to Glasgow to visit the People’s Palace. Have a look at their website https://www.historicenvironment.scot/
URL:https://fifefhs.org/event/outing/
LOCATION:Fife
CATEGORIES:Outing
END:VEVENT
BEGIN:VEVENT
DTSTART;TZID=UTC:20180421T091500
DTEND;TZID=UTC:20180421T163000
DTSTAMP:20260421T034504
CREATED:20171224T122516Z
LAST-MODIFIED:20180107T164205Z
UID:1298-1524302100-1524328200@fifefhs.org
SUMMARY:SAFHS2018
DESCRIPTION:The 29th Conference of the Scottish Association of Family History Societies will be hosted by the Fife Family History Society on the theme of “Was Your Ancestor a Convict?” at The Rothes Halls\, Glenrothes\, Fife\, on Saturday 21st April 2018. The Family History Fair is open to the public from 10:00am. \nThe day of talks\, workshops\, stalls and exhibits will be opened by Mr Robert W Balfour\, Lord-Lieutenant of Fife. \n\n\n\n\nThe SAFHS Conference & Family History Fair is an annual event open to the public. Entrance to the Fair is £2 payable at the door. Accompanied children under 12 will be admitted FREE of charge. \n\n\n\n\n\n\n\nDelegates to the Conference\, which includes all four talks\, must book in advance. \nConference Delegate Tickets are £20. \nBook online
URL:https://fifefhs.org/event/safhs2018/
LOCATION:The Rothes Halls\, Glenrothes\, Fife\, KY7 5NX\, United Kingdom
CATEGORIES:Conferences and Fairs
ATTACH;FMTTYPE=image/png:https://fifefhs.org/wp-content/uploads/2017/12/banner_4.png
ORGANIZER;CN="FifeFHS":MAILTO:chairman@fifefhs.org
END:VEVENT
BEGIN:VEVENT
DTSTART;TZID=UTC:20180410T193000
DTEND;TZID=UTC:20180410T213000
DTSTAMP:20260421T034504
CREATED:20171224T140353Z
LAST-MODIFIED:20171224T140353Z
UID:1323-1523388600-1523395800@fifefhs.org
SUMMARY:Flemish Immigrants into Fife
DESCRIPTION:Details to follow
URL:https://fifefhs.org/event/flemish-immigrants-into-fife/
LOCATION:Volunteer House\, 69 Crossgate\, Cupar\, Fife\, KY15 5AS\, United Kingdom
CATEGORIES:Talks
END:VEVENT
BEGIN:VEVENT
DTSTART;TZID=UTC:20180313T193000
DTEND;TZID=UTC:20180313T193000
DTSTAMP:20260421T034504
CREATED:20171224T135905Z
LAST-MODIFIED:20180311T095100Z
UID:1321-1520969400-1520969400@fifefhs.org
SUMMARY:Scotland’s People
DESCRIPTION:A talk by Iain Ferguson
URL:https://fifefhs.org/event/scotlands-people/
LOCATION:Volunteer House\, 69 Crossgate\, Cupar\, Fife\, KY15 5AS\, United Kingdom
CATEGORIES:Talks
END:VEVENT
BEGIN:VEVENT
DTSTART;TZID=UTC:20180213T193000
DTEND;TZID=UTC:20180213T213000
DTSTAMP:20260421T034504
CREATED:20171224T131507Z
LAST-MODIFIED:20171224T131507Z
UID:1310-1518550200-1518557400@fifefhs.org
SUMMARY:Burntisland’s Industrial Heritage
DESCRIPTION:A talk by Bill Dewar
URL:https://fifefhs.org/event/burntislands-industrial-heritage/
LOCATION:Volunteer House\, 69 Crossgate\, Cupar\, Fife\, KY15 5AS\, United Kingdom
ORGANIZER;CN="FifeFHS":MAILTO:chairman@fifefhs.org
END:VEVENT
BEGIN:VEVENT
DTSTART;TZID=UTC:20180116T100000
DTEND;TZID=UTC:20180116T150000
DTSTAMP:20260421T034504
CREATED:20171224T123235Z
LAST-MODIFIED:20180113T183949Z
UID:1303-1516096800-1516114800@fifefhs.org
SUMMARY:Family History is Fun
DESCRIPTION:Want to find out more about your Fife family history? Pop in and see what we have to help you start out with your family history. For those who have already started out\, put ‘meat on the bones’ and be introduced to online resources. Fife Archives and Cupar Library Reference section and Cupar Heritage will also be displaying local history and heritage material. Admission Free. If you would like further information please contact secretary@fifefhs.org
URL:https://fifefhs.org/event/family-history-is-fun/
LOCATION:Cupar Library\, 33 Crossgate\, Cupar\, United Kingdom (UK)\, KY15 4AS\, United Kingdom
CATEGORIES:Talks
ORGANIZER;CN="FifeFHS":MAILTO:chairman@fifefhs.org
END:VEVENT
END:VCALENDAR